BEGIN:VCALENDAR
VERSION:2.0
PRODID:-//Paróquia de Nossa Senhora do Viso - ECPv6.15.20//NONSGML v1.0//EN
CALSCALE:GREGORIAN
METHOD:PUBLISH
X-WR-CALNAME:Paróquia de Nossa Senhora do Viso
X-ORIGINAL-URL:https://senhoradoviso.diocesedeviseu.pt
X-WR-CALDESC:Eventos para Paróquia de Nossa Senhora do Viso
REFRESH-INTERVAL;VALUE=DURATION:PT1H
X-Robots-Tag:noindex
X-PUBLISHED-TTL:PT1H
BEGIN:VTIMEZONE
TZID:UTC
BEGIN:STANDARD
TZOFFSETFROM:+0000
TZOFFSETTO:+0000
TZNAME:UTC
DTSTART:20180101T000000
END:STANDARD
END:VTIMEZONE
BEGIN:VEVENT
DTSTART;TZID=UTC:20190113T130000
DTEND;TZID=UTC:20190113T130000
DTSTAMP:20260424T084744
CREATED:20181124T202951Z
LAST-MODIFIED:20190108T171509Z
UID:887-1547384400-1547384400@senhoradoviso.diocesedeviseu.pt
SUMMARY:Almoço Comunitário
DESCRIPTION:O próximo almoço comunitário da Paróquia de Nossa Senhora do Viso irá realizar-se dia 13 de Janeiro de 2019\, após o fim da Eucaristia Dominical. Será uma oportunidade também de acolhermos (para quem não esteve no dia 23-12) o nosso pároco\, o Sr. Padre Miguel Abreu\, confraternizando e dando graças a Deus por esta benção na nossa comunidade do Viso. \nEste almoço\, oferecido pelos Pais do 1º\, 7º e 8º Anos da catequese\, terá como ementa Carne de porco à Alentejana\, uma iguaria tipicamente portuguesa! \n\nConvidamos as famílias participantes no almoço a trazer uma sobremesa\, como vem sendo habitual\, deliciando os outros com os seus dotes culinários. \nEstamos à sua espera\, inscreva-se já!
URL:https://senhoradoviso.diocesedeviseu.pt/evento/almoco-comunitario/
LOCATION:Igreja do Viso
END:VEVENT
BEGIN:VEVENT
DTSTART;TZID=UTC:20190118T210000
DTEND;TZID=UTC:20190118T210000
DTSTAMP:20260424T084744
CREATED:20190110T111628Z
LAST-MODIFIED:20190110T111628Z
UID:1051-1547845200-1547845200@senhoradoviso.diocesedeviseu.pt
SUMMARY:Conselho Pastoral Paroquial
DESCRIPTION:
URL:https://senhoradoviso.diocesedeviseu.pt/evento/conselho-pastoral-paroquial/
END:VEVENT
BEGIN:VEVENT
DTSTART;TZID=UTC:20190119T203000
DTEND;TZID=UTC:20190119T203000
DTSTAMP:20260424T084744
CREATED:20190108T171744Z
LAST-MODIFIED:20190108T171803Z
UID:1044-1547929800-1547929800@senhoradoviso.diocesedeviseu.pt
SUMMARY:Festeiros 2019 - Cabidela
DESCRIPTION:
URL:https://senhoradoviso.diocesedeviseu.pt/evento/festeiros-2019-cabidela/
LOCATION:Igreja do Viso
ATTACH;FMTTYPE=image/jpeg:https://senhoradoviso.diocesedeviseu.pt/wp-content/uploads/2019/01/49380193_2043191842435397_587596601774571520_o.jpg
END:VEVENT
BEGIN:VEVENT
DTSTART;TZID=UTC:20190125T210000
DTEND;TZID=UTC:20190125T210000
DTSTAMP:20260424T084744
CREATED:20190123T170818Z
LAST-MODIFIED:20190123T170818Z
UID:1446-1548450000-1548450000@senhoradoviso.diocesedeviseu.pt
SUMMARY:Escola da Fé
DESCRIPTION:
URL:https://senhoradoviso.diocesedeviseu.pt/evento/escola-da-fe-2/
LOCATION:Igreja do Viso
CATEGORIES:Paróquia
END:VEVENT
END:VCALENDAR