BEGIN:VCALENDAR
VERSION:2.0
PRODID:-//Paróquia de Nossa Senhora do Viso - ECPv6.15.20//NONSGML v1.0//EN
CALSCALE:GREGORIAN
METHOD:PUBLISH
X-ORIGINAL-URL:https://senhoradoviso.diocesedeviseu.pt
X-WR-CALDESC:Eventos para Paróquia de Nossa Senhora do Viso
REFRESH-INTERVAL;VALUE=DURATION:PT1H
X-Robots-Tag:noindex
X-PUBLISHED-TTL:PT1H
BEGIN:VTIMEZONE
TZID:UTC
BEGIN:STANDARD
TZOFFSETFROM:+0000
TZOFFSETTO:+0000
TZNAME:UTC
DTSTART:20170101T000000
END:STANDARD
END:VTIMEZONE
BEGIN:VEVENT
DTSTART;VALUE=DATE:20181201
DTEND;VALUE=DATE:20181202
DTSTAMP:20260425T022056
CREATED:20181110T145529Z
LAST-MODIFIED:20181110T145529Z
UID:671-1543622400-1543708799@senhoradoviso.diocesedeviseu.pt
SUMMARY:Dia Missionário de Arciprestado – toda a catequese
DESCRIPTION:
URL:https://senhoradoviso.diocesedeviseu.pt/evento/dia-missionario-de-arciprestado-toda-a-catequese/
LOCATION:Igreja do Viso
END:VEVENT
BEGIN:VEVENT
DTSTART;VALUE=DATE:20181201
DTEND;VALUE=DATE:20181203
DTSTAMP:20260425T022056
CREATED:20181110T145647Z
LAST-MODIFIED:20181124T203158Z
UID:673-1543622400-1543795199@senhoradoviso.diocesedeviseu.pt
SUMMARY:Banco alimentar contra a fome
DESCRIPTION:
URL:https://senhoradoviso.diocesedeviseu.pt/evento/banco-alimentar-contra-a-fome/
LOCATION:Viseu
ATTACH;FMTTYPE=image/png:https://senhoradoviso.diocesedeviseu.pt/wp-content/uploads/2018/11/Logótipo_do_Banco_Alimentar_Contra_a_Fome.png
END:VEVENT
BEGIN:VEVENT
DTSTART;TZID=UTC:20181208T113000
DTEND;TZID=UTC:20181208T113000
DTSTAMP:20260425T022056
CREATED:20181110T145931Z
LAST-MODIFIED:20181124T151346Z
UID:677-1544268600-1544268600@senhoradoviso.diocesedeviseu.pt
SUMMARY:Imaculada Conceição - Bênção das Grávidas (inscrições abertas)
DESCRIPTION:Dia 8 de Dezembro vai ter lugar na nossa Igreja a Benção das Grávidas\, como em anos anteriores\, pelo que deixamos mais alguma informação para todas as que estiverem interessadas em participar! Não faltem! \nPodem efectuar as inscrições até dia 04 de dezembro\, pelo formulário Google que abaixo disponibilizamos no link\, pelo email também a seguir fornecido\, ou nos locais habituais: \nhttps://goo.gl/forms/fSQJvMq4bvhOsmpn2 \nparoquidaviso@gmail.com \nNa Secretaria da Igreja de Nossa Senhora do Viso.
URL:https://senhoradoviso.diocesedeviseu.pt/evento/imaculada-conceicao-bencao-das-gravidas-inscricoes-abertas/
LOCATION:Igreja do Viso
ATTACH;FMTTYPE=image/jpeg:https://senhoradoviso.diocesedeviseu.pt/wp-content/uploads/2018/11/45726685_1963010963786819_5907026564100390912_n.jpg
END:VEVENT
BEGIN:VEVENT
DTSTART;TZID=UTC:20181216T123000
DTEND;TZID=UTC:20181216T123000
DTSTAMP:20260425T022056
CREATED:20181213T150650Z
LAST-MODIFIED:20181213T150650Z
UID:982-1544963400-1544963400@senhoradoviso.diocesedeviseu.pt
SUMMARY:Venda doces e salgados
DESCRIPTION:
URL:https://senhoradoviso.diocesedeviseu.pt/evento/venda-doces-e-salgados/
LOCATION:Igreja do Viso
END:VEVENT
BEGIN:VEVENT
DTSTART;TZID=UTC:20181216T160000
DTEND;TZID=UTC:20181216T160000
DTSTAMP:20260425T022056
CREATED:20181213T150607Z
LAST-MODIFIED:20181213T150607Z
UID:979-1544976000-1544976000@senhoradoviso.diocesedeviseu.pt
SUMMARY:Ordenação Episcopal na  Sé de Viseu
DESCRIPTION:
URL:https://senhoradoviso.diocesedeviseu.pt/evento/ordenacao-episcopal-na-se-de-viseu/
LOCATION:Sé de Viseu
END:VEVENT
BEGIN:VEVENT
DTSTART;TZID=UTC:20181223T113000
DTEND;TZID=UTC:20181223T123000
DTSTAMP:20260425T022056
CREATED:20181213T150730Z
LAST-MODIFIED:20181213T150730Z
UID:984-1545564600-1545568200@senhoradoviso.diocesedeviseu.pt
SUMMARY:Entrada do novo Pároco
DESCRIPTION:
URL:https://senhoradoviso.diocesedeviseu.pt/evento/entrada-do-novo-paroco/
LOCATION:Igreja do Viso
END:VEVENT
BEGIN:VEVENT
DTSTART;TZID=UTC:20181223T160000
DTEND;TZID=UTC:20181223T160000
DTSTAMP:20260425T022056
CREATED:20181219T174756Z
LAST-MODIFIED:20181219T174756Z
UID:1013-1545580800-1545580800@senhoradoviso.diocesedeviseu.pt
SUMMARY:Apresentação do novo Bispo Auxiliar do Porto\, D. Armando Domingues
DESCRIPTION:
URL:https://senhoradoviso.diocesedeviseu.pt/evento/apresentacao-do-novo-bispo-auxiliar-do-porto-d-armando-domingues/
LOCATION:Sé do Porto
END:VEVENT
BEGIN:VEVENT
DTSTART;TZID=UTC:20181224T235900
DTEND;TZID=UTC:20181224T235900
DTSTAMP:20260425T022056
CREATED:20181213T150829Z
LAST-MODIFIED:20181213T150829Z
UID:986-1545695940-1545695940@senhoradoviso.diocesedeviseu.pt
SUMMARY:Missa do Galo
DESCRIPTION:
URL:https://senhoradoviso.diocesedeviseu.pt/evento/missa-do-galo/
LOCATION:Igreja do Viso
END:VEVENT
BEGIN:VEVENT
DTSTART;TZID=UTC:20181229T080000
DTEND;TZID=UTC:20181230T150000
DTSTAMP:20260425T022056
CREATED:20181219T174900Z
LAST-MODIFIED:20181219T174900Z
UID:1016-1546070400-1546182000@senhoradoviso.diocesedeviseu.pt
SUMMARY:Acantonamento de Natal - 1351 Viso
DESCRIPTION:
URL:https://senhoradoviso.diocesedeviseu.pt/evento/acantonamento-de-natal-1351-viso/
END:VEVENT
BEGIN:VEVENT
DTSTART;TZID=UTC:20181230T113000
DTEND;TZID=UTC:20181230T113000
DTSTAMP:20260425T022056
CREATED:20181213T150902Z
LAST-MODIFIED:20181213T150902Z
UID:988-1546169400-1546169400@senhoradoviso.diocesedeviseu.pt
SUMMARY:Festa da Sagrada Família
DESCRIPTION:
URL:https://senhoradoviso.diocesedeviseu.pt/evento/festa-da-sagrada-familia/
LOCATION:Igreja do Viso
END:VEVENT
END:VCALENDAR