BEGIN:VCALENDAR
VERSION:2.0
PRODID:-//Paróquia de Nossa Senhora do Viso - ECPv6.15.20//NONSGML v1.0//EN
CALSCALE:GREGORIAN
METHOD:PUBLISH
X-WR-CALNAME:Paróquia de Nossa Senhora do Viso
X-ORIGINAL-URL:https://senhoradoviso.diocesedeviseu.pt
X-WR-CALDESC:Eventos para Paróquia de Nossa Senhora do Viso
REFRESH-INTERVAL;VALUE=DURATION:PT1H
X-Robots-Tag:noindex
X-PUBLISHED-TTL:PT1H
BEGIN:VTIMEZONE
TZID:UTC
BEGIN:STANDARD
TZOFFSETFROM:+0000
TZOFFSETTO:+0000
TZNAME:UTC
DTSTART:20180101T000000
END:STANDARD
END:VTIMEZONE
BEGIN:VEVENT
DTSTART;TZID=UTC:20190113T130000
DTEND;TZID=UTC:20190113T130000
DTSTAMP:20260424T150835
CREATED:20181124T202951Z
LAST-MODIFIED:20190108T171509Z
UID:887-1547384400-1547384400@senhoradoviso.diocesedeviseu.pt
SUMMARY:Almoço Comunitário
DESCRIPTION:O próximo almoço comunitário da Paróquia de Nossa Senhora do Viso irá realizar-se dia 13 de Janeiro de 2019\, após o fim da Eucaristia Dominical. Será uma oportunidade também de acolhermos (para quem não esteve no dia 23-12) o nosso pároco\, o Sr. Padre Miguel Abreu\, confraternizando e dando graças a Deus por esta benção na nossa comunidade do Viso. \nEste almoço\, oferecido pelos Pais do 1º\, 7º e 8º Anos da catequese\, terá como ementa Carne de porco à Alentejana\, uma iguaria tipicamente portuguesa! \n\nConvidamos as famílias participantes no almoço a trazer uma sobremesa\, como vem sendo habitual\, deliciando os outros com os seus dotes culinários. \nEstamos à sua espera\, inscreva-se já!
URL:https://senhoradoviso.diocesedeviseu.pt/evento/almoco-comunitario/
LOCATION:Igreja do Viso
END:VEVENT
BEGIN:VEVENT
DTSTART;TZID=UTC:20190118T210000
DTEND;TZID=UTC:20190118T210000
DTSTAMP:20260424T150835
CREATED:20190110T111628Z
LAST-MODIFIED:20190110T111628Z
UID:1051-1547845200-1547845200@senhoradoviso.diocesedeviseu.pt
SUMMARY:Conselho Pastoral Paroquial
DESCRIPTION:
URL:https://senhoradoviso.diocesedeviseu.pt/evento/conselho-pastoral-paroquial/
END:VEVENT
BEGIN:VEVENT
DTSTART;TZID=UTC:20190119T203000
DTEND;TZID=UTC:20190119T203000
DTSTAMP:20260424T150835
CREATED:20190108T171744Z
LAST-MODIFIED:20190108T171803Z
UID:1044-1547929800-1547929800@senhoradoviso.diocesedeviseu.pt
SUMMARY:Festeiros 2019 - Cabidela
DESCRIPTION:
URL:https://senhoradoviso.diocesedeviseu.pt/evento/festeiros-2019-cabidela/
LOCATION:Igreja do Viso
ATTACH;FMTTYPE=image/jpeg:https://senhoradoviso.diocesedeviseu.pt/wp-content/uploads/2019/01/49380193_2043191842435397_587596601774571520_o.jpg
END:VEVENT
BEGIN:VEVENT
DTSTART;TZID=UTC:20190125T210000
DTEND;TZID=UTC:20190125T210000
DTSTAMP:20260424T150835
CREATED:20190123T170818Z
LAST-MODIFIED:20190123T170818Z
UID:1446-1548450000-1548450000@senhoradoviso.diocesedeviseu.pt
SUMMARY:Escola da Fé
DESCRIPTION:
URL:https://senhoradoviso.diocesedeviseu.pt/evento/escola-da-fe-2/
LOCATION:Igreja do Viso
CATEGORIES:Paróquia
END:VEVENT
BEGIN:VEVENT
DTSTART;TZID=UTC:20190201T193000
DTEND;TZID=UTC:20190201T193000
DTSTAMP:20260424T150835
CREATED:20190123T171757Z
LAST-MODIFIED:20190123T171757Z
UID:1468-1549049400-1549049400@senhoradoviso.diocesedeviseu.pt
SUMMARY:Oração - Capela do Santíssimo
DESCRIPTION:
URL:https://senhoradoviso.diocesedeviseu.pt/evento/oracao-capela-do-santissimo/
LOCATION:Igreja do Viso
CATEGORIES:Paróquia
END:VEVENT
BEGIN:VEVENT
DTSTART;TZID=UTC:20190207T210000
DTEND;TZID=UTC:20190207T210000
DTSTAMP:20260424T150835
CREATED:20190123T172135Z
LAST-MODIFIED:20190123T172135Z
UID:1470-1549573200-1549573200@senhoradoviso.diocesedeviseu.pt
SUMMARY:Reunião de Direção - CNE
DESCRIPTION:
URL:https://senhoradoviso.diocesedeviseu.pt/evento/reuniao-de-direcao-cne/
CATEGORIES:Escuteiros
END:VEVENT
BEGIN:VEVENT
DTSTART;TZID=UTC:20190208T210000
DTEND;TZID=UTC:20190208T210000
DTSTAMP:20260424T150835
CREATED:20190110T111659Z
LAST-MODIFIED:20190203T213338Z
UID:1053-1549659600-1549659600@senhoradoviso.diocesedeviseu.pt
SUMMARY:Conselho Pastoral Paroquial
DESCRIPTION:
URL:https://senhoradoviso.diocesedeviseu.pt/evento/conselho-pastoral-paroquial-2/
CATEGORIES:Paróquia
END:VEVENT
BEGIN:VEVENT
DTSTART;TZID=UTC:20190210T130000
DTEND;TZID=UTC:20190210T130000
DTSTAMP:20260424T150835
CREATED:20190110T112314Z
LAST-MODIFIED:20190201T161624Z
UID:1063-1549803600-1549803600@senhoradoviso.diocesedeviseu.pt
SUMMARY:Almoço Comunitário
DESCRIPTION:Dia 10 de fevereiro teremos o habitual Almoço Comunitário de angariação de fundos\, sendo oferecido desta vez pelos Pais da catequese dos anos 2º\, 5º\, 9º e Pirilampos!\nA ementa\, saborosa como também é habitual\, compõe-se de Sopa de Legumes e Jardineira de Vitela!\nAs sobremesas deixaremos aos dotes culinários dos participantes do Almoço\, como vem sendo tradição. \n\nAs inscrições podem ser efetuadas pelos modos usuais\, na receção\, ou por email: paroquiaviso@gmail.com
URL:https://senhoradoviso.diocesedeviseu.pt/evento/almoco-comunitario-2/
CATEGORIES:Paróquia
END:VEVENT
BEGIN:VEVENT
DTSTART;TZID=UTC:20190214T210000
DTEND;TZID=UTC:20190214T210000
DTSTAMP:20260424T150835
CREATED:20190123T172412Z
LAST-MODIFIED:20190123T172412Z
UID:1480-1550178000-1550178000@senhoradoviso.diocesedeviseu.pt
SUMMARY:Lectio Divina
DESCRIPTION:
URL:https://senhoradoviso.diocesedeviseu.pt/evento/lectio-divina-2/
LOCATION:Igreja do Viso
CATEGORIES:Paróquia
END:VEVENT
BEGIN:VEVENT
DTSTART;TZID=UTC:20190222T190000
DTEND;TZID=UTC:20190222T210000
DTSTAMP:20260424T150835
CREATED:20190219T171905Z
LAST-MODIFIED:20190219T172001Z
UID:1611-1550862000-1550869200@senhoradoviso.diocesedeviseu.pt
SUMMARY:1351 Viso - Inauguração da Exposição do 10º aniversário
DESCRIPTION:
URL:https://senhoradoviso.diocesedeviseu.pt/evento/1351-viso-inauguracao-da-exposicao-do-10o-aniversario/
LOCATION:Igreja do Viso
CATEGORIES:Escuteiros
END:VEVENT
BEGIN:VEVENT
DTSTART;TZID=UTC:20190222T210000
DTEND;TZID=UTC:20190222T210000
DTSTAMP:20260424T150835
CREATED:20190123T170851Z
LAST-MODIFIED:20190123T170851Z
UID:1448-1550869200-1550869200@senhoradoviso.diocesedeviseu.pt
SUMMARY:Escola da Fé
DESCRIPTION:
URL:https://senhoradoviso.diocesedeviseu.pt/evento/escola-da-fe-3/
LOCATION:Igreja do Viso
CATEGORIES:Paróquia
END:VEVENT
BEGIN:VEVENT
DTSTART;VALUE=DATE:20190223
DTEND;VALUE=DATE:20190224
DTSTAMP:20260424T150835
CREATED:20190123T172624Z
LAST-MODIFIED:20190215T173533Z
UID:1488-1550880000-1550966399@senhoradoviso.diocesedeviseu.pt
SUMMARY:Formação de Catequistas
DESCRIPTION:
URL:https://senhoradoviso.diocesedeviseu.pt/evento/formacao-de-catequistas-3/
CATEGORIES:Catequese
END:VEVENT
BEGIN:VEVENT
DTSTART;VALUE=DATE:20190223
DTEND;VALUE=DATE:20190225
DTSTAMP:20260424T150835
CREATED:20190215T164357Z
LAST-MODIFIED:20190215T164722Z
UID:1594-1550880000-1551052799@senhoradoviso.diocesedeviseu.pt
SUMMARY:Feira dos Sabores e do Fumeiro
DESCRIPTION:
URL:https://senhoradoviso.diocesedeviseu.pt/evento/feira-dos-sabores-e-do-fumeiro/
LOCATION:Igreja do Viso
CATEGORIES:Festeiros
END:VEVENT
BEGIN:VEVENT
DTSTART;TZID=UTC:20190301T193000
DTEND;TZID=UTC:20190301T193000
DTSTAMP:20260424T150835
CREATED:20190123T172722Z
LAST-MODIFIED:20190123T172722Z
UID:1490-1551468600-1551468600@senhoradoviso.diocesedeviseu.pt
SUMMARY:Oração - Capela do Santíssimo
DESCRIPTION:
URL:https://senhoradoviso.diocesedeviseu.pt/evento/oracao-capela-do-santissimo-2/
LOCATION:Igreja do Viso
CATEGORIES:Paróquia
END:VEVENT
BEGIN:VEVENT
DTSTART;TZID=UTC:20190301T210000
DTEND;TZID=UTC:20190301T210000
DTSTAMP:20260424T150835
CREATED:20190123T171144Z
LAST-MODIFIED:20190123T171144Z
UID:1454-1551474000-1551474000@senhoradoviso.diocesedeviseu.pt
SUMMARY:Tertúlia - 10º Aniversário do Agrupamento
DESCRIPTION:
URL:https://senhoradoviso.diocesedeviseu.pt/evento/tertulia-10o-aniversario-do-agrupamento/
CATEGORIES:Escuteiros
END:VEVENT
BEGIN:VEVENT
DTSTART;TZID=UTC:20190302T210000
DTEND;TZID=UTC:20190302T210000
DTSTAMP:20260424T150835
CREATED:20190123T171225Z
LAST-MODIFIED:20190226T142202Z
UID:1456-1551560400-1551560400@senhoradoviso.diocesedeviseu.pt
SUMMARY:Vigília de Oração
DESCRIPTION:
URL:https://senhoradoviso.diocesedeviseu.pt/evento/vigilia-de-oracao/
LOCATION:Igreja do Viso
CATEGORIES:Escuteiros
END:VEVENT
BEGIN:VEVENT
DTSTART;TZID=UTC:20190303T100000
DTEND;TZID=UTC:20190303T100000
DTSTAMP:20260424T150835
CREATED:20190123T171301Z
LAST-MODIFIED:20190226T142230Z
UID:1458-1551607200-1551607200@senhoradoviso.diocesedeviseu.pt
SUMMARY:Promessas de Agrupamento
DESCRIPTION:
URL:https://senhoradoviso.diocesedeviseu.pt/evento/promessas-de-agrupamento/
LOCATION:Igreja do Viso
CATEGORIES:Escuteiros
END:VEVENT
BEGIN:VEVENT
DTSTART;TZID=UTC:20190303T123000
DTEND;TZID=UTC:20190303T123000
DTSTAMP:20260424T150835
CREATED:20190215T173303Z
LAST-MODIFIED:20190227T214214Z
UID:1601-1551616200-1551616200@senhoradoviso.diocesedeviseu.pt
SUMMARY:Venda de frangos
DESCRIPTION:É já este Domingo\, dia 3 de Março\, que os Festeiros 2019 colocam novamente à venda o delicioso Frango Grelhado\, sempre bem acompanhado pelo nosso arroz\, feijão e batata frita\, regado com o nosso vinho\, pois claro! \nJá estamos a aceitar encomendas via SMS ou WhatsApp para 961673248 ou 962057660. \n\nGaranta já o seu almoço de Domingo! Obrigado!
URL:https://senhoradoviso.diocesedeviseu.pt/evento/venda-de-frangos/
LOCATION:Igreja do Viso
CATEGORIES:Festeiros
END:VEVENT
BEGIN:VEVENT
DTSTART;VALUE=DATE:20190306
DTEND;VALUE=DATE:20190307
DTSTAMP:20260424T150835
CREATED:20190227T215804Z
LAST-MODIFIED:20190227T215804Z
UID:1635-1551830400-1551916799@senhoradoviso.diocesedeviseu.pt
SUMMARY:Celebração das Cinzas
DESCRIPTION:Início da Quaresma – Tempo de preparação interior.\nCobrir-se de cinza simboliza penitência e arrependimento…
URL:https://senhoradoviso.diocesedeviseu.pt/evento/celebracao-das-cinzas/
CATEGORIES:Paróquia
END:VEVENT
BEGIN:VEVENT
DTSTART;TZID=UTC:20190307T210000
DTEND;TZID=UTC:20190307T210000
DTSTAMP:20260424T150835
CREATED:20190123T172219Z
LAST-MODIFIED:20190123T172219Z
UID:1472-1551992400-1551992400@senhoradoviso.diocesedeviseu.pt
SUMMARY:Reunião de Direção - CNE
DESCRIPTION:
URL:https://senhoradoviso.diocesedeviseu.pt/evento/reuniao-de-direcao-cne-2/
CATEGORIES:Escuteiros
END:VEVENT
BEGIN:VEVENT
DTSTART;TZID=UTC:20190309T090000
DTEND;TZID=UTC:20190309T130000
DTSTAMP:20260424T150835
CREATED:20190308T180239Z
LAST-MODIFIED:20190308T180239Z
UID:1659-1552122000-1552136400@senhoradoviso.diocesedeviseu.pt
SUMMARY:Colheita de Sangue
DESCRIPTION:
URL:https://senhoradoviso.diocesedeviseu.pt/evento/colheita-de-sangue/
LOCATION:Igreja do Viso
CATEGORIES:Paróquia
END:VEVENT
BEGIN:VEVENT
DTSTART;TZID=UTC:20190309T183000
DTEND;TZID=UTC:20190309T183000
DTSTAMP:20260424T150835
CREATED:20190123T171336Z
LAST-MODIFIED:20190123T171433Z
UID:1460-1552156200-1552156200@senhoradoviso.diocesedeviseu.pt
SUMMARY:Festa da Palavra
DESCRIPTION:
URL:https://senhoradoviso.diocesedeviseu.pt/evento/festa-da-palavra/
LOCATION:Igreja do Viso
CATEGORIES:Catequese
END:VEVENT
BEGIN:VEVENT
DTSTART;TZID=UTC:20190310T130000
DTEND;TZID=UTC:20190310T130000
DTSTAMP:20260424T150835
CREATED:20190110T112333Z
LAST-MODIFIED:20190123T171455Z
UID:1065-1552222800-1552222800@senhoradoviso.diocesedeviseu.pt
SUMMARY:Almoço Comunitário
DESCRIPTION:
URL:https://senhoradoviso.diocesedeviseu.pt/evento/almoco-comunitario-3/
CATEGORIES:Paróquia
END:VEVENT
BEGIN:VEVENT
DTSTART;TZID=UTC:20190314T210000
DTEND;TZID=UTC:20190314T210000
DTSTAMP:20260424T150835
CREATED:20190123T171536Z
LAST-MODIFIED:20190123T171536Z
UID:1462-1552597200-1552597200@senhoradoviso.diocesedeviseu.pt
SUMMARY:Lectio Divina
DESCRIPTION:
URL:https://senhoradoviso.diocesedeviseu.pt/evento/lectio-divina/
CATEGORIES:Paróquia
END:VEVENT
BEGIN:VEVENT
DTSTART;TZID=UTC:20190316T183000
DTEND;TZID=UTC:20190316T183000
DTSTAMP:20260424T150835
CREATED:20190123T171654Z
LAST-MODIFIED:20190123T171654Z
UID:1466-1552761000-1552761000@senhoradoviso.diocesedeviseu.pt
SUMMARY:Festa do Pai Nosso
DESCRIPTION:
URL:https://senhoradoviso.diocesedeviseu.pt/evento/festa-do-pai-nosso/
LOCATION:Igreja do Viso
CATEGORIES:Catequese
END:VEVENT
BEGIN:VEVENT
DTSTART;TZID=UTC:20190316T200000
DTEND;TZID=UTC:20190316T200000
DTSTAMP:20260424T150835
CREATED:20190308T175319Z
LAST-MODIFIED:20190308T181108Z
UID:1654-1552766400-1552766400@senhoradoviso.diocesedeviseu.pt
SUMMARY:V Festival das Sopas
DESCRIPTION:
URL:https://senhoradoviso.diocesedeviseu.pt/evento/v-festival-das-sopas/
LOCATION:Cafetaria Paroquial
CATEGORIES:Festeiros,Paróquia
END:VEVENT
BEGIN:VEVENT
DTSTART;TZID=UTC:20190316T210000
DTEND;TZID=UTC:20190316T210000
DTSTAMP:20260424T150835
CREATED:20190110T111825Z
LAST-MODIFIED:20190123T171909Z
UID:1055-1552770000-1552770000@senhoradoviso.diocesedeviseu.pt
SUMMARY:Conselho Pastoral Paroquial
DESCRIPTION:
URL:https://senhoradoviso.diocesedeviseu.pt/evento/conselho-pastoral-paroquial-3/
CATEGORIES:Paróquia
END:VEVENT
BEGIN:VEVENT
DTSTART;TZID=UTC:20190323T090000
DTEND;TZID=UTC:20190323T130000
DTSTAMP:20260424T150835
CREATED:20190315T155723Z
LAST-MODIFIED:20190315T155723Z
UID:1702-1553331600-1553346000@senhoradoviso.diocesedeviseu.pt
SUMMARY:Formação em Suporte Básico de Vida
DESCRIPTION:
URL:https://senhoradoviso.diocesedeviseu.pt/evento/formacao-em-suporte-basico-de-vida/
LOCATION:Cafetaria Paroquial
CATEGORIES:Escuteiros,Paróquia
END:VEVENT
BEGIN:VEVENT
DTSTART;TZID=UTC:20190324T123000
DTEND;TZID=UTC:20190324T123000
DTSTAMP:20260424T150835
CREATED:20190322T133118Z
LAST-MODIFIED:20190322T133118Z
UID:1717-1553430600-1553430600@senhoradoviso.diocesedeviseu.pt
SUMMARY:Venda de frangos
DESCRIPTION:Este Domingo\, 24 de março\, regressam os Frangos Grelhados pelos Festeiros 2019! \nEstá de volta o sabor único do frango suculento\, do entrecosto delicioso\, o arroz e o feijão incontornáveis\, sempre com a companheira batata frita de oferta no nosso pack. \n\nE para acompanhar todas estas iguarias\, o nosso vinho especial (5 Visos)…  \nReserve já o seu pack por 10 Visos (ou frango isolado por 6 Visos) para os números:\n961673248 e/ou 962057660 \nEste Domingo contamos consigo!  \nAté lá!
URL:https://senhoradoviso.diocesedeviseu.pt/evento/venda-de-frangos-2/
LOCATION:Igreja do Viso
CATEGORIES:Festeiros
END:VEVENT
BEGIN:VEVENT
DTSTART;TZID=UTC:20190329T210000
DTEND;TZID=UTC:20190329T210000
DTSTAMP:20260424T150835
CREATED:20190123T170918Z
LAST-MODIFIED:20190123T170918Z
UID:1450-1553893200-1553893200@senhoradoviso.diocesedeviseu.pt
SUMMARY:Escola da Fé
DESCRIPTION:
URL:https://senhoradoviso.diocesedeviseu.pt/evento/escola-da-fe-4/
LOCATION:Igreja do Viso
CATEGORIES:Paróquia
END:VEVENT
END:VCALENDAR