BEGIN:VCALENDAR
VERSION:2.0
PRODID:-//Paróquia de Nossa Senhora do Viso - ECPv6.15.20//NONSGML v1.0//EN
CALSCALE:GREGORIAN
METHOD:PUBLISH
X-ORIGINAL-URL:https://senhoradoviso.diocesedeviseu.pt
X-WR-CALDESC:Eventos para Paróquia de Nossa Senhora do Viso
REFRESH-INTERVAL;VALUE=DURATION:PT1H
X-Robots-Tag:noindex
X-PUBLISHED-TTL:PT1H
BEGIN:VTIMEZONE
TZID:UTC
BEGIN:STANDARD
TZOFFSETFROM:+0000
TZOFFSETTO:+0000
TZNAME:UTC
DTSTART:20180101T000000
END:STANDARD
END:VTIMEZONE
BEGIN:VEVENT
DTSTART;TZID=UTC:20190210T130000
DTEND;TZID=UTC:20190210T130000
DTSTAMP:20260423T171054
CREATED:20190110T112314Z
LAST-MODIFIED:20190201T161624Z
UID:1063-1549803600-1549803600@senhoradoviso.diocesedeviseu.pt
SUMMARY:Almoço Comunitário
DESCRIPTION:Dia 10 de fevereiro teremos o habitual Almoço Comunitário de angariação de fundos\, sendo oferecido desta vez pelos Pais da catequese dos anos 2º\, 5º\, 9º e Pirilampos!\nA ementa\, saborosa como também é habitual\, compõe-se de Sopa de Legumes e Jardineira de Vitela!\nAs sobremesas deixaremos aos dotes culinários dos participantes do Almoço\, como vem sendo tradição. \n\nAs inscrições podem ser efetuadas pelos modos usuais\, na receção\, ou por email: paroquiaviso@gmail.com
URL:https://senhoradoviso.diocesedeviseu.pt/evento/almoco-comunitario-2/
CATEGORIES:Paróquia
END:VEVENT
END:VCALENDAR