BEGIN:VCALENDAR
VERSION:2.0
PRODID:-//Paróquia de Nossa Senhora do Viso - ECPv6.15.20//NONSGML v1.0//EN
CALSCALE:GREGORIAN
METHOD:PUBLISH
X-ORIGINAL-URL:https://senhoradoviso.diocesedeviseu.pt
X-WR-CALDESC:Eventos para Paróquia de Nossa Senhora do Viso
REFRESH-INTERVAL;VALUE=DURATION:PT1H
X-Robots-Tag:noindex
X-PUBLISHED-TTL:PT1H
BEGIN:VTIMEZONE
TZID:UTC
BEGIN:STANDARD
TZOFFSETFROM:+0000
TZOFFSETTO:+0000
TZNAME:UTC
DTSTART:20180101T000000
END:STANDARD
END:VTIMEZONE
BEGIN:VEVENT
DTSTART;TZID=UTC:20190113T130000
DTEND;TZID=UTC:20190113T130000
DTSTAMP:20260425T022055
CREATED:20181124T202951Z
LAST-MODIFIED:20190108T171509Z
UID:887-1547384400-1547384400@senhoradoviso.diocesedeviseu.pt
SUMMARY:Almoço Comunitário
DESCRIPTION:O próximo almoço comunitário da Paróquia de Nossa Senhora do Viso irá realizar-se dia 13 de Janeiro de 2019\, após o fim da Eucaristia Dominical. Será uma oportunidade também de acolhermos (para quem não esteve no dia 23-12) o nosso pároco\, o Sr. Padre Miguel Abreu\, confraternizando e dando graças a Deus por esta benção na nossa comunidade do Viso. \nEste almoço\, oferecido pelos Pais do 1º\, 7º e 8º Anos da catequese\, terá como ementa Carne de porco à Alentejana\, uma iguaria tipicamente portuguesa! \n\nConvidamos as famílias participantes no almoço a trazer uma sobremesa\, como vem sendo habitual\, deliciando os outros com os seus dotes culinários. \nEstamos à sua espera\, inscreva-se já!
URL:https://senhoradoviso.diocesedeviseu.pt/evento/almoco-comunitario/
LOCATION:Igreja do Viso
END:VEVENT
END:VCALENDAR