BEGIN:VCALENDAR
VERSION:2.0
PRODID:-//Paróquia de Nossa Senhora do Viso - ECPv6.15.20//NONSGML v1.0//EN
CALSCALE:GREGORIAN
METHOD:PUBLISH
X-ORIGINAL-URL:https://senhoradoviso.diocesedeviseu.pt
X-WR-CALDESC:Eventos para Paróquia de Nossa Senhora do Viso
REFRESH-INTERVAL;VALUE=DURATION:PT1H
X-Robots-Tag:noindex
X-PUBLISHED-TTL:PT1H
BEGIN:VTIMEZONE
TZID:UTC
BEGIN:STANDARD
TZOFFSETFROM:+0000
TZOFFSETTO:+0000
TZNAME:UTC
DTSTART:20170101T000000
END:STANDARD
END:VTIMEZONE
BEGIN:VEVENT
DTSTART;TZID=UTC:20181124T170000
DTEND;TZID=UTC:20181124T170000
DTSTAMP:20260425T213407
CREATED:20181110T145314Z
LAST-MODIFIED:20181113T180725Z
UID:665-1543078800-1543078800@senhoradoviso.diocesedeviseu.pt
SUMMARY:Festa do Acolhimento com pais e crianças do 1º ano
DESCRIPTION:
URL:https://senhoradoviso.diocesedeviseu.pt/evento/festa-do-acolhimento-com-pais-e-criancas-do-1o-ano/
LOCATION:Igreja do Viso
END:VEVENT
END:VCALENDAR